View In:
ArcGIS JavaScript
SDM ArcGIS Enterprise Portal map viewer
ArcGIS Earth
ArcGIS Pro
Service Description: Retirement. MSU Campus map themed for public use
Map Name: East-Lansing-Campus
Legend
All Layers and Tables
Dynamic Legend
Dynamic All Layers
Layers:
Description: Detailed basemap of campus designed to be used for maps.msu.edu
Service Item Id: 63fe0b00c6914e8086172826460f8dc4
Copyright Text: Michigan State University
Spatial Reference:
102100
(3857)
Single Fused Map Cache: true
Tile Info:
- Height: 256
- Width: 256
- DPI: 96
-
Levels of Detail: 22
-
Level ID: 0
[ Start Tile, End Tile ]
- Resolution: 156543.03392800014
- Scale: 5.91657527591555E8
-
Level ID: 1
[ Start Tile, End Tile ]
- Resolution: 78271.51696399994
- Scale: 2.95828763795777E8
-
Level ID: 2
[ Start Tile, End Tile ]
- Resolution: 39135.75848200009
- Scale: 1.47914381897889E8
-
Level ID: 3
[ Start Tile, End Tile ]
- Resolution: 19567.87924099992
- Scale: 7.3957190948944E7
-
Level ID: 4
[ Start Tile, End Tile ]
- Resolution: 9783.93962049996
- Scale: 3.6978595474472E7
-
Level ID: 5
[ Start Tile, End Tile ]
- Resolution: 4891.96981024998
- Scale: 1.8489297737236E7
- Format: PNG32
- Compression Quality: 0.0
- Origin: X: -2.0037508342787E7
Y: 2.0037508342787E7
- Spatial Reference: 102100
(3857)
Storage Info:
- Storage Format: esriMapCacheStorageModeCompactV2
- Packet Size: 128
Initial Extent:
XMin: -9408786.899726095
YMin: 5266722.915660226
XMax: -9400566.412784902
YMax: 5273342.492553993
Spatial Reference: 102100
(3857)
Full Extent:
XMin: -9410827.8233
YMin: 5258686.688399998
XMax: -9399977.2223
YMax: 5273856.766599999
Spatial Reference: 102100
(3857)
Units: esriMeters
Supported Image Format Types: PNG32,PNG24,PNG,JPG,DIB,TIFF,EMF,PS,PDF,GIF,SVG,SVGZ,BMP
Document Info:
Title: MSUTiled
Author:
Comments: Detailed basemap of campus designed to be used for maps.msu.edu
Subject: MSU campus basemap.
Category:
Keywords: basemap tiled
AntialiasingMode: None
TextAntialiasingMode: Force
Supports Dynamic Layers: true
Resampling: false
MaxRecordCount: 2000
MaxImageHeight: 4096
MaxImageWidth: 4096
Supported Query Formats: JSON, geoJSON, PBF
Supports Query Data Elements: true
Min Scale: 5.91657527591555E8
Max Scale: 282.124294
Min LOD: 0
Max LOD: 21
Supports Datum Transformation: true
Child Resources:
Info
Dynamic Layer
Supported Operations:
Export Map
Identify
QueryLegends
QueryDomains
Find
Return Updates